BEGIN:VCALENDAR
VERSION:2.0
PRODID:-//St. Francis de Sales Parish - Akron, Ohio - ECPv6.15.13//NONSGML v1.0//EN
CALSCALE:GREGORIAN
METHOD:PUBLISH
X-ORIGINAL-URL:https://stfparish.com
X-WR-CALDESC:Events for St. Francis de Sales Parish - Akron, Ohio
REFRESH-INTERVAL;VALUE=DURATION:PT1H
X-Robots-Tag:noindex
X-PUBLISHED-TTL:PT1H
BEGIN:VTIMEZONE
TZID:America/New_York
BEGIN:DAYLIGHT
TZOFFSETFROM:-0500
TZOFFSETTO:-0400
TZNAME:EDT
DTSTART:20210314T070000
END:DAYLIGHT
BEGIN:STANDARD
TZOFFSETFROM:-0400
TZOFFSETTO:-0500
TZNAME:EST
DTSTART:20211107T060000
END:STANDARD
BEGIN:DAYLIGHT
TZOFFSETFROM:-0500
TZOFFSETTO:-0400
TZNAME:EDT
DTSTART:20220313T070000
END:DAYLIGHT
BEGIN:STANDARD
TZOFFSETFROM:-0400
TZOFFSETTO:-0500
TZNAME:EST
DTSTART:20221106T060000
END:STANDARD
BEGIN:DAYLIGHT
TZOFFSETFROM:-0500
TZOFFSETTO:-0400
TZNAME:EDT
DTSTART:20230312T070000
END:DAYLIGHT
BEGIN:STANDARD
TZOFFSETFROM:-0400
TZOFFSETTO:-0500
TZNAME:EST
DTSTART:20231105T060000
END:STANDARD
BEGIN:DAYLIGHT
TZOFFSETFROM:-0500
TZOFFSETTO:-0400
TZNAME:EDT
DTSTART:20240310T070000
END:DAYLIGHT
BEGIN:STANDARD
TZOFFSETFROM:-0400
TZOFFSETTO:-0500
TZNAME:EST
DTSTART:20241103T060000
END:STANDARD
BEGIN:DAYLIGHT
TZOFFSETFROM:-0500
TZOFFSETTO:-0400
TZNAME:EDT
DTSTART:20250309T070000
END:DAYLIGHT
BEGIN:STANDARD
TZOFFSETFROM:-0400
TZOFFSETTO:-0500
TZNAME:EST
DTSTART:20251102T060000
END:STANDARD
BEGIN:DAYLIGHT
TZOFFSETFROM:-0500
TZOFFSETTO:-0400
TZNAME:EDT
DTSTART:20260308T070000
END:DAYLIGHT
BEGIN:STANDARD
TZOFFSETFROM:-0400
TZOFFSETTO:-0500
TZNAME:EST
DTSTART:20261101T060000
END:STANDARD
END:VTIMEZONE
BEGIN:VEVENT
DTSTART;TZID=America/New_York:20250921T190000
DTEND;TZID=America/New_York:20250921T203000
DTSTAMP:20260420T170615
CREATED:20250725T143653Z
LAST-MODIFIED:20250725T143653Z
UID:9749-1758481200-1758486600@stfparish.com
SUMMARY:Youth Group
DESCRIPTION:Sunday Evenings 7:00-8:30 p.m.\nMemorare Center
URL:https://stfparish.com/event/youth-group-12/
END:VEVENT
BEGIN:VEVENT
DTSTART;TZID=America/New_York:20241226T081500
DTEND;TZID=America/New_York:20241226T084500
DTSTAMP:20260420T170615
CREATED:20241220T145442Z
LAST-MODIFIED:20241220T150209Z
UID:9238-1735200900-1735202700@stfparish.com
SUMMARY:8:15 AM Mass
DESCRIPTION:
URL:https://stfparish.com/event/815-am-mass-2/
CATEGORIES:Worship
END:VEVENT
BEGIN:VEVENT
DTSTART;TZID=America/New_York:20220801T180000
DTEND;TZID=America/New_York:20220801T220000
DTSTAMP:20260420T170615
CREATED:20220727T002820Z
LAST-MODIFIED:20220922T162054Z
UID:6528-1659376800-1659391200@stfparish.com
SUMMARY:Eucharistic Adoration
DESCRIPTION:
URL:https://stfparish.com/event/eucharistic-adoration-3/
LOCATION:St. Francis de Sales Parish Church
CATEGORIES:Adoration,Worship
END:VEVENT
BEGIN:VEVENT
DTSTART;TZID=America/New_York:20250915T190000
DTEND;TZID=America/New_York:20250915T200000
DTSTAMP:20260420T170615
CREATED:20250725T142704Z
LAST-MODIFIED:20250725T142704Z
UID:9746-1757962800-1757966400@stfparish.com
SUMMARY:PSR & Ignite
DESCRIPTION:Monday Evenings 7:00-8:00 p.m.
URL:https://stfparish.com/event/psr-ignite-2/
END:VEVENT
BEGIN:VEVENT
DTSTART;TZID=America/New_York:20220727T070000
DTEND;TZID=America/New_York:20220727T220000
DTSTAMP:20260420T170615
CREATED:20220727T001735Z
LAST-MODIFIED:20241220T145636Z
UID:6180-1658905200-1658959200@stfparish.com
SUMMARY:Eucharistic Adoration
DESCRIPTION:Breaking for Mass
URL:https://stfparish.com/event/eucharistic-adoration/
LOCATION:St. Francis de Sales Parish Church
CATEGORIES:Adoration,Worship
END:VEVENT
BEGIN:VEVENT
DTSTART;TZID=America/New_York:20241226T081500
DTEND;TZID=America/New_York:20241226T084500
DTSTAMP:20260420T170615
CREATED:20241220T145442Z
LAST-MODIFIED:20241220T150209Z
UID:9238-1735200900-1735202700@stfparish.com
SUMMARY:8:15 AM Mass
DESCRIPTION:
URL:https://stfparish.com/event/815-am-mass-2/
CATEGORIES:Worship
END:VEVENT
BEGIN:VEVENT
DTSTART;TZID=America/New_York:20250114T090000
DTEND;TZID=America/New_York:20250114T110000
DTSTAMP:20260420T170615
CREATED:20250110T145457Z
LAST-MODIFIED:20250110T145457Z
UID:9309-1736845200-1736852400@stfparish.com
SUMMARY:Women's Study Group
DESCRIPTION:Tuesdays 9:00-11:00 a.m. in the St. Gerard Room \nThis group for women reads several books about prayer\, the saints\, or other topics of the faith together throughout the year. To learn more\, contact the Parish Office at 330-644-2225.
URL:https://stfparish.com/event/womens-study-group/
CATEGORIES:Faith Formation,Fellowship
END:VEVENT
BEGIN:VEVENT
DTSTART;TZID=America/New_York:20220727T070000
DTEND;TZID=America/New_York:20220727T220000
DTSTAMP:20260420T170615
CREATED:20220727T001735Z
LAST-MODIFIED:20241220T145636Z
UID:6180-1658905200-1658959200@stfparish.com
SUMMARY:Eucharistic Adoration
DESCRIPTION:Breaking for Mass
URL:https://stfparish.com/event/eucharistic-adoration/
LOCATION:St. Francis de Sales Parish Church
CATEGORIES:Adoration,Worship
END:VEVENT
BEGIN:VEVENT
DTSTART;TZID=America/New_York:20241226T081500
DTEND;TZID=America/New_York:20241226T084500
DTSTAMP:20260420T170615
CREATED:20241220T145442Z
LAST-MODIFIED:20241220T150209Z
UID:9238-1735200900-1735202700@stfparish.com
SUMMARY:8:15 AM Mass
DESCRIPTION:
URL:https://stfparish.com/event/815-am-mass-2/
CATEGORIES:Worship
END:VEVENT
BEGIN:VEVENT
DTSTART;TZID=America/New_York:20250108T190000
DTEND;TZID=America/New_York:20250108T210000
DTSTAMP:20260420T170615
CREATED:20240911T193404Z
LAST-MODIFIED:20240911T193404Z
UID:8976-1736362800-1736370000@stfparish.com
SUMMARY:Choir Practice
DESCRIPTION:
URL:https://stfparish.com/event/choir-practice-4/
LOCATION:St. Francis de Sales Parish Church
CATEGORIES:Ministries
END:VEVENT
BEGIN:VEVENT
DTSTART;TZID=America/New_York:20220727T070000
DTEND;TZID=America/New_York:20220727T220000
DTSTAMP:20260420T170615
CREATED:20220727T001735Z
LAST-MODIFIED:20241220T145636Z
UID:6180-1658905200-1658959200@stfparish.com
SUMMARY:Eucharistic Adoration
DESCRIPTION:Breaking for Mass
URL:https://stfparish.com/event/eucharistic-adoration/
LOCATION:St. Francis de Sales Parish Church
CATEGORIES:Adoration,Worship
END:VEVENT
BEGIN:VEVENT
DTSTART;TZID=America/New_York:20241226T081500
DTEND;TZID=America/New_York:20241226T084500
DTSTAMP:20260420T170615
CREATED:20241220T145442Z
LAST-MODIFIED:20241220T150209Z
UID:9238-1735200900-1735202700@stfparish.com
SUMMARY:8:15 AM Mass
DESCRIPTION:
URL:https://stfparish.com/event/815-am-mass-2/
CATEGORIES:Worship
END:VEVENT
BEGIN:VEVENT
DTSTART;TZID=America/New_York:20240328T173000
DTEND;TZID=America/New_York:20240328T181500
DTSTAMP:20260420T170615
CREATED:20240301T161332Z
LAST-MODIFIED:20240615T192941Z
UID:8668-1711647000-1711649700@stfparish.com
SUMMARY:Confession
DESCRIPTION:The Sacrament of Reconciliation
URL:https://stfparish.com/event/confession-3/
LOCATION:St. Francis de Sales Parish Church
CATEGORIES:Confession
END:VEVENT
BEGIN:VEVENT
DTSTART;TZID=America/New_York:20220728T183000
DTEND;TZID=America/New_York:20220728T190000
DTSTAMP:20260420T170616
CREATED:20220726T235838Z
LAST-MODIFIED:20250221T164409Z
UID:5853-1659033000-1659034800@stfparish.com
SUMMARY:6:30 PM Mass
DESCRIPTION:
URL:https://stfparish.com/event/630-pm-mass/
CATEGORIES:Worship
END:VEVENT
END:VCALENDAR