BEGIN:VCALENDAR
VERSION:2.0
PRODID:-//St. Francis de Sales Parish - Akron, Ohio - ECPv6.15.13//NONSGML v1.0//EN
CALSCALE:GREGORIAN
METHOD:PUBLISH
X-ORIGINAL-URL:https://stfparish.com
X-WR-CALDESC:Events for St. Francis de Sales Parish - Akron, Ohio
REFRESH-INTERVAL;VALUE=DURATION:PT1H
X-Robots-Tag:noindex
X-PUBLISHED-TTL:PT1H
BEGIN:VTIMEZONE
TZID:America/New_York
BEGIN:DAYLIGHT
TZOFFSETFROM:-0500
TZOFFSETTO:-0400
TZNAME:EDT
DTSTART:20210314T070000
END:DAYLIGHT
BEGIN:STANDARD
TZOFFSETFROM:-0400
TZOFFSETTO:-0500
TZNAME:EST
DTSTART:20211107T060000
END:STANDARD
BEGIN:DAYLIGHT
TZOFFSETFROM:-0500
TZOFFSETTO:-0400
TZNAME:EDT
DTSTART:20220313T070000
END:DAYLIGHT
BEGIN:STANDARD
TZOFFSETFROM:-0400
TZOFFSETTO:-0500
TZNAME:EST
DTSTART:20221106T060000
END:STANDARD
BEGIN:DAYLIGHT
TZOFFSETFROM:-0500
TZOFFSETTO:-0400
TZNAME:EDT
DTSTART:20230312T070000
END:DAYLIGHT
BEGIN:STANDARD
TZOFFSETFROM:-0400
TZOFFSETTO:-0500
TZNAME:EST
DTSTART:20231105T060000
END:STANDARD
BEGIN:DAYLIGHT
TZOFFSETFROM:-0500
TZOFFSETTO:-0400
TZNAME:EDT
DTSTART:20240310T070000
END:DAYLIGHT
BEGIN:STANDARD
TZOFFSETFROM:-0400
TZOFFSETTO:-0500
TZNAME:EST
DTSTART:20241103T060000
END:STANDARD
END:VTIMEZONE
BEGIN:VEVENT
DTSTART;TZID=America/New_York:20220727T070000
DTEND;TZID=America/New_York:20220727T220000
DTSTAMP:20260425T110814
CREATED:20220727T001735Z
LAST-MODIFIED:20241220T145636Z
UID:6180-1658905200-1658959200@stfparish.com
SUMMARY:Eucharistic Adoration
DESCRIPTION:Breaking for Mass
URL:https://stfparish.com/event/eucharistic-adoration/
LOCATION:St. Francis de Sales Parish Church
CATEGORIES:Adoration,Worship
END:VEVENT
BEGIN:VEVENT
DTSTART;TZID=America/New_York:20220727T081500
DTEND;TZID=America/New_York:20220727T084500
DTSTAMP:20260425T110814
CREATED:20220726T235707Z
LAST-MODIFIED:20241025T150440Z
UID:5711-1658909700-1658911500@stfparish.com
SUMMARY:8:15 AM Mass
DESCRIPTION:
URL:https://stfparish.com/event/815-am-mass/
CATEGORIES:Worship
END:VEVENT
BEGIN:VEVENT
DTSTART;TZID=America/New_York:20231031T183000
DTEND;TZID=America/New_York:20231101T183000
DTSTAMP:20260425T110814
CREATED:20231027T141114Z
LAST-MODIFIED:20231027T141114Z
UID:8146-1698777000-1698863400@stfparish.com
SUMMARY:All Saints' Day
DESCRIPTION:All Saints' Day is a Holy Day of Obligation when all Catholics are asked to come to Mass to celebrate our brothers and sisters who are with God in heaven and ask them to help us get there too. \nWe will have Mass:\nTuesday Oct. 31 at 6:30 p.m. (vigil)\nWednesday Nov. 1 at 7:30 a.m.\, 9:00 a.m.\, and 6:30 p.m.
URL:https://stfparish.com/event/all-saints-day/
LOCATION:St. Francis de Sales Parish Church
CATEGORIES:Sacraments,Worship
END:VEVENT
BEGIN:VEVENT
DTSTART;TZID=America/New_York:20230905T190000
DTEND;TZID=America/New_York:20230905T203000
DTSTAMP:20260425T110814
CREATED:20230825T150511Z
LAST-MODIFIED:20230825T150511Z
UID:8010-1693940400-1693945800@stfparish.com
SUMMARY:RCIA
DESCRIPTION:Rite of Christian Initiation for Adults
URL:https://stfparish.com/event/rcia/
LOCATION:Memorare Center
CATEGORIES:Faith Formation,RCIA
END:VEVENT
END:VCALENDAR